BEGIN:VCALENDAR
VERSION:2.0
PRODID:-//Studio ES - ECPv6.15.20//NONSGML v1.0//EN
CALSCALE:GREGORIAN
METHOD:PUBLISH
X-WR-CALNAME:Studio ES
X-ORIGINAL-URL:https://www.studio-es.be/nl/
X-WR-CALDESC:Evenementen voor Studio ES
REFRESH-INTERVAL;VALUE=DURATION:PT1H
X-Robots-Tag:noindex
X-PUBLISHED-TTL:PT1H
BEGIN:VTIMEZONE
TZID:Europe/Brussels
BEGIN:DAYLIGHT
TZOFFSETFROM:+0100
TZOFFSETTO:+0200
TZNAME:CEST
DTSTART:20250330T010000
END:DAYLIGHT
BEGIN:STANDARD
TZOFFSETFROM:+0200
TZOFFSETTO:+0100
TZNAME:CET
DTSTART:20251026T010000
END:STANDARD
BEGIN:DAYLIGHT
TZOFFSETFROM:+0100
TZOFFSETTO:+0200
TZNAME:CEST
DTSTART:20260329T010000
END:DAYLIGHT
BEGIN:STANDARD
TZOFFSETFROM:+0200
TZOFFSETTO:+0100
TZNAME:CET
DTSTART:20261025T010000
END:STANDARD
BEGIN:DAYLIGHT
TZOFFSETFROM:+0100
TZOFFSETTO:+0200
TZNAME:CEST
DTSTART:20270328T010000
END:DAYLIGHT
BEGIN:STANDARD
TZOFFSETFROM:+0200
TZOFFSETTO:+0100
TZNAME:CET
DTSTART:20271031T010000
END:STANDARD
END:VTIMEZONE
BEGIN:VEVENT
DTSTART;TZID=Europe/Brussels:20260501T120000
DTEND;TZID=Europe/Brussels:20260501T170000
DTSTAMP:20260422T144846
CREATED:20251214T205611Z
LAST-MODIFIED:20251214T205717Z
UID:3194-1777636800-1777654800@www.studio-es.be
SUMMARY:Shibari Bootcamp (Leuven)
DESCRIPTION:
URL:https://www.studio-es.be/nl/event/shibari-bootcamp-leuven-4/
LOCATION:Casa LoJeMa\, Tiensesteenweg 270\, Bierbeek\, 3360\, Belgium
CATEGORIES:Bootcamp,Shibari
END:VEVENT
BEGIN:VEVENT
DTSTART;TZID=Europe/Brussels:20260502T090000
DTEND;TZID=Europe/Brussels:20260502T190000
DTSTAMP:20260422T144846
CREATED:20260211T193525Z
LAST-MODIFIED:20260211T193525Z
UID:3219-1777712400-1777748400@www.studio-es.be
SUMMARY:ConSensual Gateway: Power & Surrender
DESCRIPTION:
URL:https://www.studio-es.be/nl/event/consensual-gateway-power-surrender-2/
LOCATION:Zolder Eden\, Willem Wenemaerstraat 42\, Gent\, 9000\, Belgium
CATEGORIES:Zolder Eden
END:VEVENT
BEGIN:VEVENT
DTSTART;TZID=Europe/Brussels:20260613T140000
DTEND;TZID=Europe/Brussels:20260613T190000
DTSTAMP:20260422T144846
CREATED:20251127T132352Z
LAST-MODIFIED:20260108T134454Z
UID:3069-1781359200-1781377200@www.studio-es.be
SUMMARY:Shibari Bootcamp (Gent)
DESCRIPTION:
URL:https://www.studio-es.be/nl/event/shibari-bootcamp-gent-5/
LOCATION:Yogaloft Gent\, Aaigemstraat 10\, Gent\, 9000\, Belgium
CATEGORIES:Bootcamp,Shibari
END:VEVENT
BEGIN:VEVENT
DTSTART;TZID=Europe/Brussels:20260621T090000
DTEND;TZID=Europe/Brussels:20260621T190000
DTSTAMP:20260422T144847
CREATED:20260211T202412Z
LAST-MODIFIED:20260211T202412Z
UID:3224-1782032400-1782068400@www.studio-es.be
SUMMARY:Shibari Level 2A intensive
DESCRIPTION:
URL:https://www.studio-es.be/nl/event/shibari-level-2a-intensive/
LOCATION:Zolder Eden\, Willem Wenemaerstraat 42\, Gent\, 9000\, Belgium
CATEGORIES:Intensive,Shibari
END:VEVENT
END:VCALENDAR